BEGIN:VCALENDAR
VERSION:2.0
PRODID:researchseminars.org
CALSCALE:GREGORIAN
X-WR-CALNAME:researchseminars.org
BEGIN:VEVENT
SUMMARY:İzzet Coşkun (University of Illinois at Chicago)
DTSTART:20210802T133000Z
DTEND:20210802T150000Z
DTSTAMP:20260422T212928Z
UID:6thGTSS/1
DESCRIPTION:Title: <a href="https://researchseminars.org/talk/6thGTSS/1/">
 Rational curves in projective space</a>\nby İzzet Coşkun (University of 
 Illinois at Chicago) as part of 6th GTSS Geometry-Topology Summer School\n
 \nAbstract: TBA\n
LOCATION:https://researchseminars.org/talk/6thGTSS/1/
END:VEVENT
BEGIN:VEVENT
SUMMARY:İzzet Coşkun (University of Illinois at Chicago)
DTSTART:20210803T133000Z
DTEND:20210803T150000Z
DTSTAMP:20260422T212928Z
UID:6thGTSS/2
DESCRIPTION:Title: <a href="https://researchseminars.org/talk/6thGTSS/2/">
 Rational curves on hypersurfaces</a>\nby İzzet Coşkun (University of Ill
 inois at Chicago) as part of 6th GTSS Geometry-Topology Summer School\n\nA
 bstract: TBA\n
LOCATION:https://researchseminars.org/talk/6thGTSS/2/
END:VEVENT
BEGIN:VEVENT
SUMMARY:İzzet Coşkun (University of Illinois at Chicago)
DTSTART:20210804T133000Z
DTEND:20210804T150000Z
DTSTAMP:20260422T212928Z
UID:6thGTSS/3
DESCRIPTION:Title: <a href="https://researchseminars.org/talk/6thGTSS/3/">
 Algebraic hyperbolicity of very general hypersurfaces of large degree</a>\
 nby İzzet Coşkun (University of Illinois at Chicago) as part of 6th GTSS
  Geometry-Topology Summer School\n\nAbstract: TBA\n
LOCATION:https://researchseminars.org/talk/6thGTSS/3/
END:VEVENT
BEGIN:VEVENT
SUMMARY:İzzet Coşkun (University of Illinois at Chicago)
DTSTART:20210806T133000Z
DTEND:20210806T150000Z
DTSTAMP:20260422T212928Z
UID:6thGTSS/4
DESCRIPTION:Title: <a href="https://researchseminars.org/talk/6thGTSS/4/">
 Normal bundles of Brill-Noether space curves</a>\nby İzzet Coşkun (Unive
 rsity of Illinois at Chicago) as part of 6th GTSS Geometry-Topology Summer
  School\n\nAbstract: TBA\n
LOCATION:https://researchseminars.org/talk/6thGTSS/4/
END:VEVENT
BEGIN:VEVENT
SUMMARY:Michael Albanese (UQAM)
DTSTART:20210809T130000Z
DTEND:20210809T143000Z
DTSTAMP:20260422T212928Z
UID:6thGTSS/5
DESCRIPTION:Title: <a href="https://researchseminars.org/talk/6thGTSS/5/">
 Yamabe Invariant of Complex Surfaces</a>\nby Michael Albanese (UQAM) as pa
 rt of 6th GTSS Geometry-Topology Summer School\n\nAbstract: TBA\n
LOCATION:https://researchseminars.org/talk/6thGTSS/5/
END:VEVENT
BEGIN:VEVENT
SUMMARY:Michael Albanese (UQAM)
DTSTART:20210810T130000Z
DTEND:20210810T143000Z
DTSTAMP:20260422T212928Z
UID:6thGTSS/6
DESCRIPTION:Title: <a href="https://researchseminars.org/talk/6thGTSS/6/">
 Yamabe Invariant of Complex Surfaces</a>\nby Michael Albanese (UQAM) as pa
 rt of 6th GTSS Geometry-Topology Summer School\n\nAbstract: TBA\n
LOCATION:https://researchseminars.org/talk/6thGTSS/6/
END:VEVENT
BEGIN:VEVENT
SUMMARY:Michael Albanese (UQAM)
DTSTART:20210811T130000Z
DTEND:20210811T143000Z
DTSTAMP:20260422T212928Z
UID:6thGTSS/7
DESCRIPTION:Title: <a href="https://researchseminars.org/talk/6thGTSS/7/">
 Yamabe Invariant of Complex Surfaces</a>\nby Michael Albanese (UQAM) as pa
 rt of 6th GTSS Geometry-Topology Summer School\n\nAbstract: TBA\n
LOCATION:https://researchseminars.org/talk/6thGTSS/7/
END:VEVENT
BEGIN:VEVENT
SUMMARY:Michael Albanese (UQAM)
DTSTART:20210813T130000Z
DTEND:20210813T143000Z
DTSTAMP:20260422T212928Z
UID:6thGTSS/8
DESCRIPTION:Title: <a href="https://researchseminars.org/talk/6thGTSS/8/">
 Yamabe Invariant of Complex Surfaces</a>\nby Michael Albanese (UQAM) as pa
 rt of 6th GTSS Geometry-Topology Summer School\n\nAbstract: TBA\n
LOCATION:https://researchseminars.org/talk/6thGTSS/8/
END:VEVENT
BEGIN:VEVENT
SUMMARY:Sebastian Heller (University of Hannover)
DTSTART:20210802T113000Z
DTEND:20210802T130000Z
DTSTAMP:20260422T212928Z
UID:6thGTSS/10
DESCRIPTION:Title: <a href="https://researchseminars.org/talk/6thGTSS/10/"
 >Minimal and constant mean curvature(CMC) surfaces in R3 and S3</a>\nby Se
 bastian Heller (University of Hannover) as part of 6th GTSS Geometry-Topol
 ogy Summer School\n\nAbstract: TBA\n
LOCATION:https://researchseminars.org/talk/6thGTSS/10/
END:VEVENT
BEGIN:VEVENT
SUMMARY:Sebastian Heller (University of Hannover)
DTSTART:20210806T113000Z
DTEND:20210806T130000Z
DTSTAMP:20260422T212928Z
UID:6thGTSS/11
DESCRIPTION:Title: <a href="https://researchseminars.org/talk/6thGTSS/11/"
 >Constant mean curvature(CMC) surfaces and integrable systems</a>\nby Seba
 stian Heller (University of Hannover) as part of 6th GTSS Geometry-Topolog
 y Summer School\n\nAbstract: TBA\n
LOCATION:https://researchseminars.org/talk/6thGTSS/11/
END:VEVENT
BEGIN:VEVENT
SUMMARY:Sebastian Heller (University of Hannover)
DTSTART:20210803T113000Z
DTEND:20210803T130000Z
DTSTAMP:20260422T212928Z
UID:6thGTSS/12
DESCRIPTION:Title: <a href="https://researchseminars.org/talk/6thGTSS/12/"
 >Constant mean curvature(CMC) surfaces and integrable systems</a>\nby Seba
 stian Heller (University of Hannover) as part of 6th GTSS Geometry-Topolog
 y Summer School\n\nAbstract: TBA\n
LOCATION:https://researchseminars.org/talk/6thGTSS/12/
END:VEVENT
BEGIN:VEVENT
SUMMARY:Sebastian Heller (University of Hannover)
DTSTART:20210804T113000Z
DTEND:20210804T130000Z
DTSTAMP:20260422T212928Z
UID:6thGTSS/13
DESCRIPTION:Title: <a href="https://researchseminars.org/talk/6thGTSS/13/"
 >Constant mean curvature(CMC) surfaces and integrable systems</a>\nby Seba
 stian Heller (University of Hannover) as part of 6th GTSS Geometry-Topolog
 y Summer School\n\nAbstract: TBA\n
LOCATION:https://researchseminars.org/talk/6thGTSS/13/
END:VEVENT
BEGIN:VEVENT
SUMMARY:Anna Fino (University of Torino)
DTSTART:20210809T080000Z
DTEND:20210809T093000Z
DTSTAMP:20260422T212928Z
UID:6thGTSS/14
DESCRIPTION:Title: <a href="https://researchseminars.org/talk/6thGTSS/14/"
 >Interplays of Complex and Symplectic Geometry</a>\nby Anna Fino (Universi
 ty of Torino) as part of 6th GTSS Geometry-Topology Summer School\n\nAbstr
 act: TBA\n
LOCATION:https://researchseminars.org/talk/6thGTSS/14/
END:VEVENT
BEGIN:VEVENT
SUMMARY:Anna Fino (University of Torino)
DTSTART:20210810T080000Z
DTEND:20210810T093000Z
DTSTAMP:20260422T212928Z
UID:6thGTSS/15
DESCRIPTION:Title: <a href="https://researchseminars.org/talk/6thGTSS/15/"
 >Interplays of Complex and Symplectic Geometry</a>\nby Anna Fino (Universi
 ty of Torino) as part of 6th GTSS Geometry-Topology Summer School\n\nAbstr
 act: TBA\n
LOCATION:https://researchseminars.org/talk/6thGTSS/15/
END:VEVENT
BEGIN:VEVENT
SUMMARY:Anna Fino (University of Torino)
DTSTART:20210811T080000Z
DTEND:20210811T093000Z
DTSTAMP:20260422T212928Z
UID:6thGTSS/16
DESCRIPTION:Title: <a href="https://researchseminars.org/talk/6thGTSS/16/"
 >Interplays of Complex and Symplectic Geometry</a>\nby Anna Fino (Universi
 ty of Torino) as part of 6th GTSS Geometry-Topology Summer School\n\nAbstr
 act: TBA\n
LOCATION:https://researchseminars.org/talk/6thGTSS/16/
END:VEVENT
BEGIN:VEVENT
SUMMARY:Anna Fino (University of Torino)
DTSTART:20210813T080000Z
DTEND:20210813T093000Z
DTSTAMP:20260422T212928Z
UID:6thGTSS/17
DESCRIPTION:Title: <a href="https://researchseminars.org/talk/6thGTSS/17/"
 >Interplays of Complex and Symplectic Geometry</a>\nby Anna Fino (Universi
 ty of Torino) as part of 6th GTSS Geometry-Topology Summer School\n\nAbstr
 act: TBA\n
LOCATION:https://researchseminars.org/talk/6thGTSS/17/
END:VEVENT
BEGIN:VEVENT
SUMMARY:Jesse Madnick (NCTS)
DTSTART:20210802T080000Z
DTEND:20210802T093000Z
DTSTAMP:20260422T212928Z
UID:6thGTSS/18
DESCRIPTION:Title: <a href="https://researchseminars.org/talk/6thGTSS/18/"
 >Holomorphic curves in the 6-sphere</a>\nby Jesse Madnick (NCTS) as part o
 f 6th GTSS Geometry-Topology Summer School\n\nAbstract: TBA\n
LOCATION:https://researchseminars.org/talk/6thGTSS/18/
END:VEVENT
BEGIN:VEVENT
SUMMARY:Jesse Madnick (NCTS)
DTSTART:20210803T080000Z
DTEND:20210803T093000Z
DTSTAMP:20260422T212928Z
UID:6thGTSS/19
DESCRIPTION:Title: <a href="https://researchseminars.org/talk/6thGTSS/19/"
 >Holomorphic curves in the 6-sphere</a>\nby Jesse Madnick (NCTS) as part o
 f 6th GTSS Geometry-Topology Summer School\n\nAbstract: TBA\n
LOCATION:https://researchseminars.org/talk/6thGTSS/19/
END:VEVENT
BEGIN:VEVENT
SUMMARY:Jesse Madnick (NCTS)
DTSTART:20210804T080000Z
DTEND:20210804T093000Z
DTSTAMP:20260422T212928Z
UID:6thGTSS/20
DESCRIPTION:Title: <a href="https://researchseminars.org/talk/6thGTSS/20/"
 >Holomorphic curves in the 6-sphere</a>\nby Jesse Madnick (NCTS) as part o
 f 6th GTSS Geometry-Topology Summer School\n\nAbstract: TBA\n
LOCATION:https://researchseminars.org/talk/6thGTSS/20/
END:VEVENT
BEGIN:VEVENT
SUMMARY:Jesse Madnick (NCTS)
DTSTART:20210806T080000Z
DTEND:20210806T093000Z
DTSTAMP:20260422T212928Z
UID:6thGTSS/21
DESCRIPTION:Title: <a href="https://researchseminars.org/talk/6thGTSS/21/"
 >Holomorphic curves in the 6-sphere</a>\nby Jesse Madnick (NCTS) as part o
 f 6th GTSS Geometry-Topology Summer School\n\nAbstract: TBA\n
LOCATION:https://researchseminars.org/talk/6thGTSS/21/
END:VEVENT
BEGIN:VEVENT
SUMMARY:Alexandra Otiman (University of Florence)
DTSTART:20210809T113000Z
DTEND:20210809T130000Z
DTSTAMP:20260422T212928Z
UID:6thGTSS/22
DESCRIPTION:Title: <a href="https://researchseminars.org/talk/6thGTSS/22/"
 >Topics in locally conformally Kähler (LCK) geometry</a>\nby Alexandra Ot
 iman (University of Florence) as part of 6th GTSS Geometry-Topology Summer
  School\n\nAbstract: TBA\n
LOCATION:https://researchseminars.org/talk/6thGTSS/22/
END:VEVENT
BEGIN:VEVENT
SUMMARY:Alexandra Otiman (University of Florence)
DTSTART:20210810T113000Z
DTEND:20210810T130000Z
DTSTAMP:20260422T212928Z
UID:6thGTSS/23
DESCRIPTION:Title: <a href="https://researchseminars.org/talk/6thGTSS/23/"
 >Topics in locally conformally Kähler (LCK) geometry</a>\nby Alexandra Ot
 iman (University of Florence) as part of 6th GTSS Geometry-Topology Summer
  School\n\nAbstract: TBA\n
LOCATION:https://researchseminars.org/talk/6thGTSS/23/
END:VEVENT
BEGIN:VEVENT
SUMMARY:Alexandra Otiman (University of Florence)
DTSTART:20210811T113000Z
DTEND:20210811T130000Z
DTSTAMP:20260422T212928Z
UID:6thGTSS/24
DESCRIPTION:Title: <a href="https://researchseminars.org/talk/6thGTSS/24/"
 >Topics in locally conformally Kähler (LCK) geometry</a>\nby Alexandra Ot
 iman (University of Florence) as part of 6th GTSS Geometry-Topology Summer
  School\n\nAbstract: TBA\n
LOCATION:https://researchseminars.org/talk/6thGTSS/24/
END:VEVENT
BEGIN:VEVENT
SUMMARY:Alexandra Otiman (University of Florence)
DTSTART:20210813T113000Z
DTEND:20210813T130000Z
DTSTAMP:20260422T212928Z
UID:6thGTSS/25
DESCRIPTION:Title: <a href="https://researchseminars.org/talk/6thGTSS/25/"
 >Topics in locally conformally Kähler (LCK) geometry</a>\nby Alexandra Ot
 iman (University of Florence) as part of 6th GTSS Geometry-Topology Summer
  School\n\nAbstract: TBA\n
LOCATION:https://researchseminars.org/talk/6thGTSS/25/
END:VEVENT
END:VCALENDAR
