BEGIN:VCALENDAR
VERSION:2.0
PRODID:researchseminars.org
CALSCALE:GREGORIAN
X-WR-CALNAME:researchseminars.org
BEGIN:VEVENT
SUMMARY:Rosa Sena-Dias (Instituto Superior Tecnico Lisboa)
DTSTART:20230717T080000Z
DTEND:20230717T093000Z
DTSTAMP:20260422T212922Z
UID:11thGTSS/1
DESCRIPTION:Title: <a href="https://researchseminars.org/talk/11thGTSS/1/"
 >Action-angle coordinates and Riemannian geometry on toric manifolds</a>\n
 by Rosa Sena-Dias (Instituto Superior Tecnico Lisboa) as part of 11th GTSS
  Geometry-Topology Summer School\n\nAbstract: TBA\n
LOCATION:https://researchseminars.org/talk/11thGTSS/1/
END:VEVENT
BEGIN:VEVENT
SUMMARY:Dan Popovici (Université Paul Sabatier Toulouse)
DTSTART:20230724T120000Z
DTEND:20230724T131500Z
DTSTAMP:20260422T212922Z
UID:11thGTSS/2
DESCRIPTION:Title: <a href="https://researchseminars.org/talk/11thGTSS/2/"
 >Special Hermitian Metrics on Compact Complex Manifolds</a>\nby Dan Popovi
 ci (Université Paul Sabatier Toulouse) as part of 11th GTSS Geometry-Topo
 logy Summer School\n\nAbstract: TBA\n
LOCATION:https://researchseminars.org/talk/11thGTSS/2/
END:VEVENT
BEGIN:VEVENT
SUMMARY:Nicoletta Tardini (University of Parma)
DTSTART:20230717T120000Z
DTEND:20230717T131500Z
DTSTAMP:20260422T212922Z
UID:11thGTSS/3
DESCRIPTION:Title: <a href="https://researchseminars.org/talk/11thGTSS/3/"
 >Lectures on strong Kähler with torsion (SKT) metrics</a>\nby Nicoletta T
 ardini (University of Parma) as part of 11th GTSS Geometry-Topology Summer
  School\n\nAbstract: TBA\n
LOCATION:https://researchseminars.org/talk/11thGTSS/3/
END:VEVENT
BEGIN:VEVENT
SUMMARY:Marcos Miguel Origlia (Universidad Nacional de Córdoba\, Argentin
 a)
DTSTART:20230717T133000Z
DTEND:20230717T150000Z
DTSTAMP:20260422T212922Z
UID:11thGTSS/4
DESCRIPTION:Title: <a href="https://researchseminars.org/talk/11thGTSS/4/"
 >Left invariant LCK geometry on Lie groups</a>\nby Marcos Miguel Origlia (
 Universidad Nacional de Córdoba\, Argentina) as part of 11th GTSS Geometr
 y-Topology Summer School\n\nAbstract: TBA\n
LOCATION:https://researchseminars.org/talk/11thGTSS/4/
END:VEVENT
BEGIN:VEVENT
SUMMARY:Viviana del Barco (Universidade Estadual de Campinas São Paulo)
DTSTART:20230724T133000Z
DTEND:20230724T150000Z
DTSTAMP:20260422T212922Z
UID:11thGTSS/6
DESCRIPTION:Title: <a href="https://researchseminars.org/talk/11thGTSS/6/"
 >Lectures on ad-invariant metrics</a>\nby Viviana del Barco (Universidade 
 Estadual de Campinas São Paulo) as part of 11th GTSS Geometry-Topology Su
 mmer School\n\nAbstract: TBA\n
LOCATION:https://researchseminars.org/talk/11thGTSS/6/
END:VEVENT
BEGIN:VEVENT
SUMMARY:Rosa Sena-Dias (Instituto Superior Tecnico Lisboa)
DTSTART:20230718T080000Z
DTEND:20230718T093000Z
DTSTAMP:20260422T212922Z
UID:11thGTSS/7
DESCRIPTION:Title: <a href="https://researchseminars.org/talk/11thGTSS/7/"
 >Action-angle coordinates and Riemannian geometry on toric manifolds</a>\n
 by Rosa Sena-Dias (Instituto Superior Tecnico Lisboa) as part of 11th GTSS
  Geometry-Topology Summer School\n\nAbstract: TBA\n
LOCATION:https://researchseminars.org/talk/11thGTSS/7/
END:VEVENT
BEGIN:VEVENT
SUMMARY:Nicoletta Tardini (University of Parma)
DTSTART:20230718T120000Z
DTEND:20230718T131500Z
DTSTAMP:20260422T212922Z
UID:11thGTSS/8
DESCRIPTION:Title: <a href="https://researchseminars.org/talk/11thGTSS/8/"
 >Lectures on strong Kähler with torsion (SKT) metrics</a>\nby Nicoletta T
 ardini (University of Parma) as part of 11th GTSS Geometry-Topology Summer
  School\n\nAbstract: TBA\n
LOCATION:https://researchseminars.org/talk/11thGTSS/8/
END:VEVENT
BEGIN:VEVENT
SUMMARY:Marcos Miguel Origlia (Universidad Nacional de Córdoba\, Argentin
 a)
DTSTART:20230718T133000Z
DTEND:20230718T150000Z
DTSTAMP:20260422T212922Z
UID:11thGTSS/9
DESCRIPTION:Title: <a href="https://researchseminars.org/talk/11thGTSS/9/"
 >Left invariant LCK geometry on Lie groups</a>\nby Marcos Miguel Origlia (
 Universidad Nacional de Córdoba\, Argentina) as part of 11th GTSS Geometr
 y-Topology Summer School\n\nAbstract: TBA\n
LOCATION:https://researchseminars.org/talk/11thGTSS/9/
END:VEVENT
BEGIN:VEVENT
SUMMARY:Rosa Sena-Dias (Instituto Superior Tecnico Lisboa)
DTSTART:20230720T080000Z
DTEND:20230720T093000Z
DTSTAMP:20260422T212922Z
UID:11thGTSS/10
DESCRIPTION:Title: <a href="https://researchseminars.org/talk/11thGTSS/10/
 ">Action-angle coordinates and Riemannian geometry on toric manifolds</a>\
 nby Rosa Sena-Dias (Instituto Superior Tecnico Lisboa) as part of 11th GTS
 S Geometry-Topology Summer School\n\nAbstract: TBA\n
LOCATION:https://researchseminars.org/talk/11thGTSS/10/
END:VEVENT
BEGIN:VEVENT
SUMMARY:Nicoletta Tardini (University of Parma)
DTSTART:20230720T120000Z
DTEND:20230720T131500Z
DTSTAMP:20260422T212922Z
UID:11thGTSS/11
DESCRIPTION:Title: <a href="https://researchseminars.org/talk/11thGTSS/11/
 ">Lectures on strong Kähler with torsion (SKT) metrics</a>\nby Nicoletta 
 Tardini (University of Parma) as part of 11th GTSS Geometry-Topology Summe
 r School\n\nAbstract: TBA\n
LOCATION:https://researchseminars.org/talk/11thGTSS/11/
END:VEVENT
BEGIN:VEVENT
SUMMARY:Marcos Miguel Origlia (Universidad Nacional de Córdoba\, Argentin
 a)
DTSTART:20230720T133000Z
DTEND:20230720T150000Z
DTSTAMP:20260422T212922Z
UID:11thGTSS/12
DESCRIPTION:Title: <a href="https://researchseminars.org/talk/11thGTSS/12/
 ">Left invariant LCK geometry on Lie groups</a>\nby Marcos Miguel Origlia 
 (Universidad Nacional de Córdoba\, Argentina) as part of 11th GTSS Geomet
 ry-Topology Summer School\n\nAbstract: TBA\n
LOCATION:https://researchseminars.org/talk/11thGTSS/12/
END:VEVENT
BEGIN:VEVENT
SUMMARY:Nicoletta Tardini (University of Parma)
DTSTART:20230721T120000Z
DTEND:20230721T131500Z
DTSTAMP:20260422T212922Z
UID:11thGTSS/14
DESCRIPTION:Title: <a href="https://researchseminars.org/talk/11thGTSS/14/
 ">Lectures on strong Kähler with torsion (SKT) metrics</a>\nby Nicoletta 
 Tardini (University of Parma) as part of 11th GTSS Geometry-Topology Summe
 r School\n\nAbstract: TBA\n
LOCATION:https://researchseminars.org/talk/11thGTSS/14/
END:VEVENT
BEGIN:VEVENT
SUMMARY:Rosa Sena-Dias (Instituto Superior Tecnico Lisboa)
DTSTART:20230721T080000Z
DTEND:20230721T093000Z
DTSTAMP:20260422T212922Z
UID:11thGTSS/15
DESCRIPTION:Title: <a href="https://researchseminars.org/talk/11thGTSS/15/
 ">Action-angle coordinates and Riemannian geometry on toric manifolds</a>\
 nby Rosa Sena-Dias (Instituto Superior Tecnico Lisboa) as part of 11th GTS
 S Geometry-Topology Summer School\n\nAbstract: TBA\n
LOCATION:https://researchseminars.org/talk/11thGTSS/15/
END:VEVENT
BEGIN:VEVENT
SUMMARY:Viviana del Barco (Universidade Estadual de Campinas São Paulo)
DTSTART:20230725T133000Z
DTEND:20230725T150000Z
DTSTAMP:20260422T212922Z
UID:11thGTSS/18
DESCRIPTION:Title: <a href="https://researchseminars.org/talk/11thGTSS/18/
 ">Lectures on ad-invariant metrics</a>\nby Viviana del Barco (Universidade
  Estadual de Campinas São Paulo) as part of 11th GTSS Geometry-Topology S
 ummer School\n\nAbstract: TBA\n
LOCATION:https://researchseminars.org/talk/11thGTSS/18/
END:VEVENT
BEGIN:VEVENT
SUMMARY:Viviana del Barco (Universidade Estadual de Campinas São Paulo)
DTSTART:20230727T133000Z
DTEND:20230727T150000Z
DTSTAMP:20260422T212922Z
UID:11thGTSS/19
DESCRIPTION:Title: <a href="https://researchseminars.org/talk/11thGTSS/19/
 ">Lectures on ad-invariant metrics</a>\nby Viviana del Barco (Universidade
  Estadual de Campinas São Paulo) as part of 11th GTSS Geometry-Topology S
 ummer School\n\nAbstract: TBA\n
LOCATION:https://researchseminars.org/talk/11thGTSS/19/
END:VEVENT
BEGIN:VEVENT
SUMMARY:Viviana del Barco (Universidade Estadual de Campinas São Paulo)
DTSTART:20230728T133000Z
DTEND:20230728T150000Z
DTSTAMP:20260422T212922Z
UID:11thGTSS/20
DESCRIPTION:Title: <a href="https://researchseminars.org/talk/11thGTSS/20/
 ">Lectures on ad-invariant metrics</a>\nby Viviana del Barco (Universidade
  Estadual de Campinas São Paulo) as part of 11th GTSS Geometry-Topology S
 ummer School\n\nAbstract: TBA\n
LOCATION:https://researchseminars.org/talk/11thGTSS/20/
END:VEVENT
BEGIN:VEVENT
SUMMARY:Dan Popovici (Université Paul Sabatier Toulouse)
DTSTART:20230725T120000Z
DTEND:20230725T131500Z
DTSTAMP:20260422T212922Z
UID:11thGTSS/21
DESCRIPTION:Title: <a href="https://researchseminars.org/talk/11thGTSS/21/
 ">Special Hermitian Metrics on Compact Complex Manifolds</a>\nby Dan Popov
 ici (Université Paul Sabatier Toulouse) as part of 11th GTSS Geometry-Top
 ology Summer School\n\nAbstract: TBA\n
LOCATION:https://researchseminars.org/talk/11thGTSS/21/
END:VEVENT
BEGIN:VEVENT
SUMMARY:Dan Popovici (Université Paul Sabatier Toulouse)
DTSTART:20230727T120000Z
DTEND:20230727T131500Z
DTSTAMP:20260422T212922Z
UID:11thGTSS/22
DESCRIPTION:Title: <a href="https://researchseminars.org/talk/11thGTSS/22/
 ">Special Hermitian Metrics on Compact Complex Manifolds</a>\nby Dan Popov
 ici (Université Paul Sabatier Toulouse) as part of 11th GTSS Geometry-Top
 ology Summer School\n\nAbstract: TBA\n
LOCATION:https://researchseminars.org/talk/11thGTSS/22/
END:VEVENT
BEGIN:VEVENT
SUMMARY:Dan Popovici (Université Paul Sabatier Toulouse)
DTSTART:20230728T120000Z
DTEND:20230728T131500Z
DTSTAMP:20260422T212922Z
UID:11thGTSS/23
DESCRIPTION:Title: <a href="https://researchseminars.org/talk/11thGTSS/23/
 ">Special Hermitian Metrics on Compact Complex Manifolds</a>\nby Dan Popov
 ici (Université Paul Sabatier Toulouse) as part of 11th GTSS Geometry-Top
 ology Summer School\n\nAbstract: TBA\n
LOCATION:https://researchseminars.org/talk/11thGTSS/23/
END:VEVENT
END:VCALENDAR
